Workbook

Sheet 2a-1 
B1: SỞ GIÁO DỤC VÀ ĐÀO TẠO | N1: CỘNG HÒA XÃ HỘI CHỦ NGHĨA VIỆT NAM
B2: THÀNH PHỐ HỒ CHÍ MINH | N2: Độc lập - Tự do - Hạnh phúc
B3: TRƯỜNG CAO ĐẲNG LÝ TỰ TRỌNG | S3: Biểu 2a/1
B4: THÀNH PHỐ HỒ CHÍ MINH
A6: BÁO CÁO NHU CẦU KINH PHÍ THỰC HIỆN NGHỊ ĐỊNH SỐ 47/2017/NĐ-CP NĂM 2017
A7: (Đính kèm Công văn số 4642/GDĐT-KHTC ngày 14 tháng 12 năm 2017 của Sở Giáo dục và Đào tạo)
S8: Đơn vị: Triệu đồng
A9: STT | B9: ĐƠN VỊ | C9: BIÊN CHẾ ĐƯỢC CẤP CÓ THẨM QUYỀN GIAO HOẶC PHÊ DUYỆT NĂM 2017 | D9: TỔNG SỐ ĐỐI TƯỢNG HƯỞNG LƯƠNG CÓ MẶT ĐẾN 01/7/2017 | E9: QUỸ TIỀN LƯƠNG, PHỤ CẤP VÀ CÁC KHOẢN ĐÓNG GÓP THÁNG 7/2017 THEO NGHỊ ĐỊNH SỐ 47/2016/NĐ-CP
E10: TỔNG CỘNG | F10: LƯƠNG THEO NGẠCH BẬC, CHỨC VỤ | G10: TỔNG CÁC KHOẢN PHỤ CẤP (1) | H10: Trong đó | S10: CÁC KHOẢN ĐÓNG GÓP BHXH, BHYT, KPCĐ, BHTN (2)
H11: PHỤ CẤP KHU VỰC | I11: PHỤ CẤP CHỨC VỤ | J11: PHỤ CẤP THÂM NIÊN VƯỢT KHUNG | K11: PHỤ CẤP ƯU ĐÃI NGÀNH | L11: PHỤ CẤP THU HÚT | M11: PHỤ CẤP CÔNG TÁC LÂU NĂM | N11: PHỤ CẤP CÔNG VỤ | O11: PHỤ CẤP CÔNG TÁC ĐẢNG | P11: PHỤ CẤP THÂM NIÊN NGHỀ | Q11: PHỤ CẤP THÂM NIÊN ĐỐI VỚI NHÀ GIÁO | R11: PHỤ CẤP KHÁC
A12: 1 | B12: 2 | C12: 3 | D12: 4 | E12: 5=6+7+19 | F12: 6 | G12: 7=8+9+…+18 | H12: 8 | I12: 9 | J12: 10 | K12: 11 | L12: 12 | M12: 13 | N12: 14 | O12: 15 | P12: 16 | Q12: 17 | R12: 18 | S12: 19
B13: Trường Cao đẳng Lý Tự Trọng TPHCM | C13: 318 | D13: 290 | E13: =F13+G13+S13 -> 1987.6514 | F13: =(939.639+36.69-35.91)*1.21 -> 1137.907 | G13: =SUM(H13:R13) -> 522.91759 | I13: =40*1.21 -> 48.4 | J13: =15.9633*1.21 -> 19.315593 | K13: =220*1.21 -> 266.2 | O13: =0.3*7*1.21 -> 2.541 | Q13: =153*1.21 -> 185.13 | R13: =1.1*1.21 -> 1.331 | S13: =(F13+I13+J13+Q13)*23.5/100 -> 326.82686
O16: Ngày 18 tháng 12 năm 2017
B17: Lập Bảng | G17: Phòng Kế hoạch - Tài chính | O17: Hiệu Trưởng
B24: Nguyễn Thị Kim Dung | G24: Nguyễn Kính | O24: Phạm Hữu Lộc

Sheet 2a-2
B1: SỞ GIÁO DỤC VÀ ĐÀO TẠO | N1: CỘNG HÒA XÃ HỘI CHỦ NGHĨA VIỆT NAM
B2: THÀNH PHỐ HỒ CHÍ MINH | N2: Độc lập - Tự do - Hạnh phúc
B3: TRƯỜNG CAO ĐẲNG LÝ TỰ TRỌNG | S3: Biểu 2a/2
B4: THÀNH PHỐ HỒ CHÍ MINH
A6: BÁO CÁO NHU CẦU KINH PHÍ THỰC HIỆN NGHỊ ĐỊNH SỐ 47/2017/NĐ-CP NĂM 2017
A7: (Đính kèm Công văn số 4642/GDĐT-KHTC ngày 14 tháng 12 năm 2017 của Sở Giáo dục và Đào tạo)
P8: Đơn vị: Triệu đồng
A9: STT | B9: ĐƠN VỊ | C9: QUỸ TIỀN LƯƠNG, PHỤ CẤP VÀ CÁC KHOẢN ĐÓNG GÓP THÁNG 7/2017 THEO NGHỊ ĐỊNH SỐ 47/2017/NĐ-CP | R9: CHÊNH LỆCH QUỸ LƯƠNG, PHỤ CẤP TĂNG THÊM 1 THÁNG | S9: NHU CẦU KINH PHÍ THỰC HIỆN NGHỊ ĐỊNH SỐ 47/CP
C10: TỔNG CỘNG | D10: LƯƠNG THEO NGẠCH BẬC, CHỨC VỤ | E10: TỔNG CÁC KHOẢN PHỤ CẤP (1) | F10: Trong đó | Q10: CÁC KHOẢN ĐÓNG GÓP BHXH, BHYT, KPCĐ, BHTN
F11: PHỤ CẤP KHU VỰC | G11: PHỤ CẤP CHỨC VỤ | H11: PHỤ CẤP THÂM NIÊN VƯỢT KHUNG | I11: PHỤ CẤP ƯU ĐÃI NGÀNH | J11: PHỤ CẤP THU HÚT | K11: PHỤ CẤP CÔNG TÁC LÂU NĂM | L11: PHỤ CẤP CÔNG VỤ | M11: PHỤ CẤP CÔNG TÁC ĐẢNG | N11: PHỤ CẤP THÂM NIÊN NGHỀ | O11: PHỤ CẤP THÂM NIÊN ĐỐI VỚI NHÀ GIÁO | P11: PHỤ CẤP KHÁC
A12: 1 | B12: 2 | C12: 20=21+22+34 | D12: 21 | E12: 22=23+24+…+33 | F12: 23 | G12: 24 | H12: 25 | I12: 26 | J12: 27 | K12: 28 | L12: 29 | M12: 30 | N12: 31 | O12: 32 | P12: 33 | Q12: 34 | R12: 35=20-5 | S12: 36=35*6 tháng
B13: Trường Cao đẳng Lý Tự Trọng TPHCM | C13: =D13+E13+Q13 -> 2135.4933 | D13: =(939.639+36.69-35.91)*1.3 -> 1222.5447 | E13: =SUM(F13:P13) -> 561.81229 | G13: =40*1.3 -> 52 | H13: =15.9633*1.3 -> 20.75229 | I13: =220*1.3 -> 286 | M13: =0.3*7*1.3 -> 2.73 | O13: =153*1.3 -> 198.9 | P13: =1.1*1.3 -> 1.43 | Q13: =(D13+G13+H13+O13)*23.5/100 -> 351.13629 | R13: =C13-'2a-1 '!E13 -> 147.84184 | S13: =R13*6 -> 887.05106
O15: Ngày 18 tháng 12 năm 2017
B16: Lập Bảng | G16: Phòng Kế hoạch - Tài chính | O16: Hiệu Trưởng
B23: Nguyễn Thị Kim Dung | G23: Nguyễn Kính | O23: Phạm Hữu Lộc

Sheet 2c
A1: SỞ GIÁO DỤC VÀ ĐÀO TẠO | D1: CỘNG HÒA XÃ HỘI CHỦ NGHĨA VIỆT NAM | G1: Biểu 2c
A2: THÀNH PHỐ HỒ CHÍ MINH | D2: Độc lập - Tự do - Hạnh phúc
A3: TRƯỜNG CAO ĐẲNG LÝ TỰ TRỌNG
A4: THÀNH PHỐ HỒ CHÍ MINH
A6: BÁO CÁO NHU CẦU CHÊNH LỆCH SAU KHI ĐIỀU CHỈNH MỨC LƯƠNG CƠ SỞ TỪ 1,15 TRIỆU ĐỒNG/THÁNG LÊN 1,21 TRIỆU ĐỒNG/THÁNG ĐỂ BẢO LƯU MỨC LƯƠNG ĐỐI VỚI NGƯỜI THU NHẬP THẤP ĐÃ ĐIỀU CHỈNH THEO NGHỊ ĐỊNH 17/2015/NĐ-CP
A7: (Đính kèm Công văn số 4642/GDĐT-KHTC ngày 14 tháng 12 năm 2017 của Sở Giao dục và Đào tạo)
G8: Đơn vị: Triệu đồng
A9: STT | B9: Đơn vị | C9: Đối tượng có hệ số lương ngạch bậc, lương chức vụ từ 2,34 trở xuống có mặt 01/01/2017 có chênh lệch tăng thêm (Người) | D9: Tổng HS tiền lương ngạch bậc của số đối tượng có hệ số lương từ 2,34 trở xuống có mặt 01/01/2017 | E9: Tổng hệ số phụ cấp của số đối tượng có hệ số lương từ 2,34 trở xuống | F9: Bổ sung chênh lệch do điều chỉnh mức lương cơ sở 1,21 trđ/ tháng để giữ bằng thu nhập thấp tháng 4/2016 | G9: Nhu cầu bổ sung chênh lệch 6 tháng đầu năm năm 2017
A10: 1 | B10: 2 | C10: 3 | D10: 4 | E10: 5 | F10: 6 | G10: 7=6*6 tháng đầu năm 2017
B11: Trường Cao đẳng Lý Tự Trọng Tp Hồ Chí Minh | C11: 14 | D11: 31.649 | E11: 0 | F11: =D11*0.032 -> 1.012768 | G11: =F11*6 -> 6.076608
E13: Ngày 18 tháng 12 năm 2017
B14: NGƯỜI LẬP BẢNG KẾ TOÁN TRƯỞNG | E14: HIỆU TRƯỞNG
B19: Hồng Mộng Tuyết Dung Nguyễn Kính | E19: Phạm Hữu Lộc

Sheet 2d
B1: SỞ GIÁO DỤC VÀ ĐÀO TẠO | R1: CỘNG HÒA XÃ HỘI CHỦ NGHĨA VIỆT NAM
B2: THÀNH PHỐ HỒ CHÍ MINH | R2: Độc lập - Tự do - Hạnh phúc
B3: TRƯỜNG CAO ĐẲNG LÝ TỰ TRỌNG | W3: Biểu 2d
B4: THÀNH PHỐ HỒ CHÍ MINH
A6: BÁO CÁO NHU CẦU KINH PHÍ THỰC HIỆN BẢO HIỂM THẤT NGHIỆP THEO NGHỊ ĐỊNH 28/2015/NĐ-CP NĂM 2017
A7: (Đính kèm Công văn số /STC-HCSN ngày tháng năm 2017 của Sở Tài chính)
W8: Đơn vị: Triệu đồng
A9: STT | B9: Đơn vị | C9: QT thu BHTN 2016 | F9: Biên chế được cấp có thẩm quyền, giao hoặc phê duyệt năm 2017 | G9: Tổng số đối tượng hưởng lương có mặt đến 01/7/2017 nộp BHTN | H9: Tổng QL, phụ cấp và BH thất nghiệp tháng 7/2017 theo NĐ 47/2016/NĐ-CP | O9: Tổng QL, phụ cấp và BH thất nghiệp tháng 7/2017 theo NĐ 47/2017/NĐ-CP | V9: Chênh lệch Bảo hiểm thất nghiệp tăng thêm 1 tháng | W9: Nhu cầu thực hiện BHTN năm 2017
C10: Tổng số đối tượng | D10: Thu của người lao động và người sử dụng lao động (2%) | E10: Thu của người lao động và người sử dụng lao động (2%) | H10: Tổng cộng | I10: Mức lương theo ngạch, bậc, chức vụ | J10: Tổng các khoản phụ cấp tính BHTN | K10: Trong đó | N10: 1% Bảo hiểm thất nghiệp | O10: Tổng cộng | P10: Mức lương theo ngạch, bậc, chức vụ | Q10: Tổng các khoản phụ cấp tính BHTN | R10: Trong đó | U10: 1% Bảo hiểm thất nghiệp
K11: Phụ cấp chức vụ | L11: Phụ cấp vượt khung | M11: Phụ cấp thâm niên nghề | R11: Phụ cấp chức vụ | S11: Phụ cấp vượt khung | T11: Phụ cấp thâm niên nghề
C12: 1 | D12: 3 | F12: 5 | G12: 6 | H12: 7=8+9+13 | I12: 8 | J12: 9 | K12: 10 | L12: 11 | M12: 12 | N12: 13 | O12: 14=15+16+20 | P12: 15 | Q12: 16 | R12: 17 | S12: 18 | T12: 19 | U12: 20 | V12: 21=14-7 | W12: 22=21*6 tháng
B13: Trường Cao đẳng Lý Tự Trọng TPHCM | C13: 343 | D13: =(4388.77+4585.54+4366.5+4387.73)*2/100 -> 354.5708 | E13: =4387.73*2/100 -> 87.7546 | F13: 318 | G13: 290 | H13: =I13+J13+N13 -> 1404.6601 | I13: =(939.639+36.69-35.91)*1.21 -> 1137.907 | J13: =SUM(K13:M13) -> 252.84559 | K13: =40*1.21 -> 48.4 | L13: =15.9633*1.21 -> 19.315593 | M13: =153*1.21 -> 185.13 | N13: =(I13+J13)*1/100 -> 13.907526 | O13: =P13+Q13+U13 -> 1509.139 | P13: =+(939.639+36.69-35.91)*1.3 -> 1222.5447 | Q13: =SUM(R13:T13) -> 271.65229 | R13: =40*1.3 -> 52 | S13: =15.9633*1.3 -> 20.75229 | T13: =153*1.3 -> 198.9 | U13: =(P13+Q13)*1/100 -> 14.94197 | V13: =O13-H13 -> 104.47885 | W13: =V13*6 -> 626.87311
P15: Ngày 18 tháng 12 năm 2017
B16: Lập Bảng | H16: Phòng Kế hoạch - Tài chính | P16: Hiệu Trưởng
B23: Nguyễn Thị Kim Dung | H23: Nguyễn Kính | P23: Phạm Hữu Lộc

Sheet 4a
A1: SỞ GIÁO DỤC VÀ ĐÀO TẠO CỘNG HÒA XÃ HỘI CHỦ NGHĨA VIỆT NAM | D1: Biểu 4a
A2: THÀNH PHỐ HỒ CHÍ MINH Độc lập - Tự do - Hạnh phúc
A3: TRƯỜNG CAO ĐẲNG LÝ TỰ TRỌNG
A4: THÀNH PHỐ HỒ CHÍ MINH
A6: NGUỒN VÀ NHU CẦU KINH PHÍ ĐỂ THỰC HIỆN CẢI CÁCH TIỀN LƯƠNG NĂM 2017
A7: (Đính kèm Công văn số 4642/GDĐT-KHTC ngày 14 tháng 12 năm 2017)
D8: ĐVT: triệu đồng
A9: STT | B9: NỘI DUNG | C9: SỐ TIỀN | D9: GHI CHÚ
A10: 1 | B10: 2 | C10: 3 | D10: 4
A11: A | B11: NGUỒN THỰC HIỆN CẢI CÁCH TIỀN LƯƠNG NĂM 2017 | C11: =SUM(C12:C23) -> 15915.42
A12: 1 | B12: 50% tăng thu NSĐP (không kể tăng thu tiền sử dụng đất) thực hiện 2016 so dự toán Thủ tướng Chính phủ giao năm 2013
A13: 2 | B13: Số tiết kiệm 10% chi thường xuyên dự toán năm 2017: | C13: 3683.41
A14: 3 | B14: Số thu được huy động từ nguồn để lại đơn vị năm 2017:
A15: a | B15: Nguồn huy động từ các đơn vị tự bảo đảm (1):
B16: + Học phí
B17: + Viện phí
B18: + Nguồn thu khác
A19: b | B19: Nguồn huy động từ các đơn vị chưa tự đảm bảo chi thường xuyên:
B20: + Học phí | C20: 5361
B21: + Viện phí
B22: + Nguồn thu khác
A23: 4 | B23: Nguồn thực hiện cải cách tiền lương năm 2016 chưa sử dụng hết chuyển sang năm 2017 | C23: 6871.01
A24: B | B24: TÔNG NHU CẦU NĂM 2017 | C24: =C25+C31 -> 893.13106
A25: I | B25: Tổng nhu cầu kinh phí tăng thêm để thực hiện cải cách tiền lương theo Nghị định số 47/2017/NĐ-CP | C25: =SUM(C26:C30) -> 887.05106
A26: 1 | B26: Quỹ tiền lương, phụ cấp tăng thêm đối với cán bộ công chức khu vực hành chính, sự nghiệp | C26: ='2a-2'!S13 -> 887.05106
B27: Trong đó: nhu cầu tăng thêm đối với các đơn vị sự nghiệp tự đảm bảo (1)
A28: 2 | B28: Hoạt động phí tăng thêm đối với đại biểu hội đồng nhân dân các cấp
A29: 3 | B29: Kinh phí tăng thêm để thực hiện phụ cấp trách nhiệm đối với cấp ủy viên các cấp theo Quyết định số 169-QĐ/TW ngày 24/6/2008
A30: 4 | B30: Kinh phí tăng thêm thực hiện chế độ bồi dưỡng phục vụ hoạt động cấp ủy thuộc cấp tỉnh theo Quy định số 3115-QĐ/VPTW
A31: II | B31: Nhu cầu thực hiện một số loại phụ cấp, trợ cấp theo quy định | C31: =SUM(C32:C34) -> 6.08
A32: 1 | B32: Kinh phí hỗ trợ chênh lệch tiền lương cho người có thu nhập thấp (Nghị định số 17/2015/NĐ-CP) và mức lương 1,21 (6 tháng đầu năm 2017) (2) | C32: 6.08 | D32: Nội dung này đã được bố trí dự toán từ đầu năm 2017
A33: 2 | B33: Nhu cầu kinh phí thực hiện chính sách tinh giản biên chế năm 2017 theo Nghị định số 108/2014/NĐ-CP ngày 20/11/2014 (Đối tượng đã được Bộ Nội vụ thẩm định)
A34: 3 | B34: Nhu cầu kinh phí thực hiện chính sách nghỉ hưu trước tuổi năm 2017 theo Nghị định số 26/2015/NĐ-CP ngày 09/3/2015
A35: C | B35: CHÊNH LỆCH NHU CẦU VÀ NGUỒN NĂM 2017 | C35: =SUM(C36:C37) -> 15022.289
A36: 1 | B36: Phần thiếu nguồn ngân sách trung ương hỗ trợ.
A37: 2 | B37: Nguồn thực hiện cải cách tiền lương còn dư chuyển kỳ sau | C37: =C11-C24 -> 15022.289
C39: Ngày 18 tháng 12 năm 2017
A40: NGƯỜI LẬP BẢNG KẾ TOÁN TRƯỞNG | C40: HIỆU TRƯỞNG
A45: Hồng Mộng Tuyết Dung Nguyễn Kính | C45: Phạm Hữu Lộc

Sheet 4b
A1: SỞ GIÁO DỤC VÀ ĐÀO TẠO CỘNG HÒA XÃ HỘI CHỦ NGHĨA VIỆT NAM | I1: Biểu 4b
A2: THÀNH PHỐ HỒ CHÍ MINH Độc lập - Tự do - Hạnh phúc
A3: TRƯỜNG CAO ĐẲNG LÝ TỰ TRỌNG
A4: THÀNH PHỐ HỒ CHÍ MINH
A6: NGUỒN VÀ NHU CẦU THỰC HIỆN NGHỊ ĐỊNH SỐ 47/2017/NĐ-CP NĂM 2017
A7: (Đính kèm Công văn số 4642/GDĐT-KHTC ngày 14 tháng 12 năm 2017)
I8: Đơn vị: Triệu đồng
A9: STT | B9: CHỈ TIÊU | C9: NHU CẦU KINH PHÍ THỰC HIỆN CCTL NĂM 2017 | D9: NGUỒN TỪ TIẾT KIỆM 10% CHI THƯỜNG XUYÊN VÀ NGUỒN THU ĐỂ LẠI ĐƠN VỊ
D10: TỔNG SỐ | E10: NGUỒN CCTL NĂM 2016 CHUYỂN SANG NĂM 2017 | F10: TIẾT KIỆM 10% CHI THƯỜNG XUYÊN NĂM 2017 | G10: HỌC PHÍ | H10: VIỆN PHÍ | I10: NGUỒN THU TỪ ĐƠN VỊ HÀNH CHÍNH SỰ NGHIỆP KHÁC
A11: A | B11: B | C11: 1 | D11: 2=3+4+…+7 | E11: 3 | F11: 4 | G11: 5 | H11: 6 | I11: 7
B12: Trường Cao đẳng Lý Tự Trọng Tp Hồ Chí Minh | C12: ='2a-2'!S13 -> 887.05106 | D12: =SUM(E12:I12) -> 15915.42 | E12: ='4a'!C23 -> 6871.01 | F12: ='4a'!C13 -> 3683.41 | G12: ='4a'!C20 -> 5361 | I12: ='4a'!C22 -> 0
G14: Ngày 18 tháng 12 năm 2017
A15: NGƯỜI LẬP BẢNG KẾ TOÁN TRƯỞNG | G15: HIỆU TRƯỞNG
A20: Hồng Mộng Tuyết Dung Nguyễn Kính | G20: Phạm Hữu Lộc
